BEGIN:VCALENDAR
VERSION:2.0
PRODID:-//wp-events-plugin.com//7.2.3.1//EN
TZID:Europe/Zurich
X-WR-TIMEZONE:Europe/Zurich
BEGIN:VEVENT
UID:4360@in-gear.de
DTSTART;TZID=Europe/Zurich:20260828T190000
DTEND;TZID=Europe/Zurich:20260828T190000
DTSTAMP:20260209T094856Z
URL:https://in-gear.de/en/events/kink-fetish-social-2026-08-28/
SUMMARY:Kink Fetish Social
DESCRIPTION:Offene queere Kink und Fetish Community in Mainz.\nStammtisch a
 n jedem vierten Freitag im Monat.\nKommt vorbei!\n\nBitte schaut vorher au
 f Instagram\, ob das Event stattfindet.
CATEGORIES:Socials
LOCATION:Mainz | Bar Jeder Sicht\, Hintere Bleiche 29\, Mainz\, 55116\, Ger
 many
X-APPLE-STRUCTURED-LOCATION;VALUE=URI;X-ADDRESS=Hintere Bleiche 29\, Mainz\
 , 55116\, Germany;X-APPLE-RADIUS=100;X-TITLE=Mainz | Bar Jeder Sicht:geo:0
 ,0
END:VEVENT
BEGIN:VTIMEZONE
TZID:Europe/Zurich
X-LIC-LOCATION:Europe/Zurich
BEGIN:DAYLIGHT
DTSTART:20260329T030000
TZOFFSETFROM:+0100
TZOFFSETTO:+0200
TZNAME:CEST
END:DAYLIGHT
END:VTIMEZONE
END:VCALENDAR