BEGIN:VCALENDAR
VERSION:2.0
PRODID:-//wp-events-plugin.com//7.2.3.1//EN
TZID:Europe/Zurich
X-WR-TIMEZONE:Europe/Zurich
BEGIN:VEVENT
UID:5797@in-gear.de
DTSTART;TZID=Europe/Berlin:20260603T000000
DTEND;TZID=Europe/Berlin:20260607T000000
DTSTAMP:20260413T142032Z
URL:https://in-gear.de/en/events/vienna-fetish-spring/
SUMMARY:Vienna fetish spring
DESCRIPTION:Vom 03.06. - 07.06. feiert man in Wien ein großes verlängerte
 s Wochenende mit Gear. Ihr findet alle Events bei uns auf in-gear.de und n
 atürlich auf der Seite der LMC Vienna.
CATEGORIES:Major Events,PreTwo-Medium
LOCATION:Wien | tbd\, Wien\, Wien\, Austria
X-APPLE-STRUCTURED-LOCATION;VALUE=URI;X-ADDRESS=Wien\, Wien\, Austria;X-APP
 LE-RADIUS=100;X-TITLE=Wien | tbd:geo:0,0
END:VEVENT
BEGIN:VTIMEZONE
TZID:Europe/Berlin
X-LIC-LOCATION:Europe/Berlin
BEGIN:DAYLIGHT
DTSTART:20260329T030000
TZOFFSETFROM:+0100
TZOFFSETTO:+0200
TZNAME:CEST
END:DAYLIGHT
END:VTIMEZONE
END:VCALENDAR