BEGIN:VCALENDAR
VERSION:2.0
PRODID:-//wp-events-plugin.com//7.2.3.1//EN
TZID:Europe/Zurich
X-WR-TIMEZONE:Europe/Zurich
BEGIN:VEVENT
UID:4294@in-gear.de
DTSTART;TZID=Europe/Zurich:20260603T190000
DTEND;TZID=Europe/Zurich:20260603T190000
DTSTAMP:20251220T140744Z
URL:https://in-gear.de/events/fetisch-social-hannover-2026-01-07-2026-02-0
 4-2026-03-04-2026-04-01-2026-05-06-2026-06-03/
SUMMARY:Fetisch Social Hannover
DESCRIPTION:Du stehst auf Leder\, Gummi\, Army\, Biker\, Pup-Play\, Furry\,
  Sportsware\, Sneaker\, Stocks\, Nylon oder worauf man sonst noch am eigen
 en oder anderen Körpern stehen kann?\n\nWir wollen der Fetisch-Community 
 in Hannover wieder frischen Wind einhauchen und zwar mit DIR! Und dem LEGU
 AN\, dem altehrwürdigen Leder-\, Gummi-\, Army-Liebhabern!\n\nViele Commu
 nity-Events stehen bereits auf unseren Planungslisten\, und wir suchen nun
  Leute\, die diese Events genießen oder sich sogar einbringen wollen!\n\n
 Sexualität\, Aussehen\, Alter\, Herkunft\, lockere Schrauben\, ex- oder i
 ntrovertiert\, alles egal\, wir feiern uns als Fetischfans. Selber tragen 
 oder nur schauen\, Hauptsache du bist dabei.\n\nJeden 1. Mittwoch
CATEGORIES:Socials
LOCATION:Hannover | CheckPoint untenrum\, Weißekreuzstraße 20\, Hannover\
 , 30161\, Deutschland
X-APPLE-STRUCTURED-LOCATION;VALUE=URI;X-ADDRESS=Weißekreuzstraße 20\, Han
 nover\, 30161\, Deutschland;X-APPLE-RADIUS=100;X-TITLE=Hannover | CheckPoi
 nt untenrum:geo:0,0
END:VEVENT
BEGIN:VTIMEZONE
TZID:Europe/Zurich
X-LIC-LOCATION:Europe/Zurich
BEGIN:DAYLIGHT
DTSTART:20260329T030000
TZOFFSETFROM:+0100
TZOFFSETTO:+0200
TZNAME:CEST
END:DAYLIGHT
END:VTIMEZONE
END:VCALENDAR