BEGIN:VCALENDAR
VERSION:2.0
PRODID:-//wp-events-plugin.com//7.2.3.1//EN
TZID:Europe/Zurich
X-WR-TIMEZONE:Europe/Zurich
BEGIN:VEVENT
UID:4281@in-gear.de
DTSTART;TZID=Europe/Berlin:20260501T190000
DTEND;TZID=Europe/Berlin:20260501T190000
DTSTAMP:20251220T140652Z
URL:https://in-gear.de/events/locker-room-lounge-2026-05-01/
SUMMARY:Locker Room Lounge
DESCRIPTION:Locker Room Lounge – by Leinebagger e.V.\nDer queere Sportver
 ein Leinebagger e.V. und der CheckPoint Untenrum laden ein zur gemütlich-
 sportlichen Bar-Night!\n\nVorne mixen die sexy Sporties der Leinebagger hi
 nter der Theke für euch.\nHinten heißt es: Shots für Shots – Gewinne 
 Kurze beim Torwandschießen!\n\nSchmeißt euch in eure sexy\, sporty Outfi
 ts und macht den CheckPoint Untenrum für einen Abend zur Sporthalle!\n\nJ
 eden 1. Freitag im Monat\nab 19 Uhr\nCheckPoint Untenrum\, Weißekreuzstra
 ße 20\, Hannover-Mitte\n\nFollow the white rabbit.
CATEGORIES:Socials
LOCATION:Hannover | CheckPoint untenrum\, Weißekreuzstraße 20\, Hannover\
 , 30161\, Deutschland
X-APPLE-STRUCTURED-LOCATION;VALUE=URI;X-ADDRESS=Weißekreuzstraße 20\, Han
 nover\, 30161\, Deutschland;X-APPLE-RADIUS=100;X-TITLE=Hannover | CheckPoi
 nt untenrum:geo:0,0
END:VEVENT
BEGIN:VTIMEZONE
TZID:Europe/Berlin
X-LIC-LOCATION:Europe/Berlin
BEGIN:DAYLIGHT
DTSTART:20260329T030000
TZOFFSETFROM:+0100
TZOFFSETTO:+0200
TZNAME:CEST
END:DAYLIGHT
END:VTIMEZONE
END:VCALENDAR