BEGIN:VCALENDAR
VERSION:2.0
PRODID:-//wp-events-plugin.com//7.2.3.1//EN
TZID:Europe/Zurich
X-WR-TIMEZONE:Europe/Zurich
BEGIN:VEVENT
UID:4395@in-gear.de
DTSTART;TZID=Europe/Zurich:20260514T180000
DTEND;TZID=Europe/Zurich:20260514T180000
DTSTAMP:20251220T140716Z
URL:https://in-gear.de/events/puppy-stammtisch-2026-01-08-2026-01-15-2026-
 01-22-2026-01-29-2026-02-05-2026-02-12-2026-02-19-2026-02-26-2026-03-05-20
 26-03-12-2026-03-19-2026-03-26-2026-04-02-2026-04-09-2026-04-16-2026-07-20
 26-05-14/
SUMMARY:Puppy Stammtisch
DESCRIPTION:Wöchentlicher Puppy-Stammtisch in Mannheim für Puppys insbeso
 ndere aus der Region Rhein-Neckar. Offen für alle geschlechtlichen Identi
 täten.\n\nAußerdem findet einmal im Monat im QZM-Café die „Puppy Thek
 e“ statt. Hier servieren euch die Puppies von 18:00 bis 23:00 verschiede
 ne heiße\, kalte\, alkoholische und nicht-alkoholische Getränke.
CATEGORIES:Socials
LOCATION:Mannheim | Queeres Zentrum\, G7\, 14\, Mannheim\, 68159\, Deutschl
 and
X-APPLE-STRUCTURED-LOCATION;VALUE=URI;X-ADDRESS=G7\, 14\, Mannheim\, 68159\
 , Deutschland;X-APPLE-RADIUS=100;X-TITLE=Mannheim | Queeres Zentrum:geo:0,
 0
END:VEVENT
BEGIN:VTIMEZONE
TZID:Europe/Zurich
X-LIC-LOCATION:Europe/Zurich
BEGIN:DAYLIGHT
DTSTART:20260329T030000
TZOFFSETFROM:+0100
TZOFFSETTO:+0200
TZNAME:CEST
END:DAYLIGHT
END:VTIMEZONE
END:VCALENDAR