BEGIN:VCALENDAR
VERSION:2.0
PRODID:-//wp-events-plugin.com//7.2.3.1//EN
TZID:Europe/Zurich
X-WR-TIMEZONE:Europe/Zurich
BEGIN:VEVENT
UID:4017@in-gear.de
DTSTART;TZID=Europe/Zurich:20260627T200000
DTEND;TZID=Europe/Zurich:20260627T200000
DTSTAMP:20251220T140839Z
URL:https://in-gear.de/events/puppy-stammtisch-3-2026-01-24-2026-02-28-202
 6-03-28-2026-04-25-2026-05-23-2026-06-27/
SUMMARY:Puppy Stammtisch
DESCRIPTION:Offener Stammtisch für alle Pup-Play-Interessierten\n\nBeim St
 ammtisch sind alle Welpen\, Hunde\, Frauchen\, Herrchen oder Interessierte
  willkommen\, unabhängig von Geschlecht\, sexueller Ausrichtung oder Alte
 r. Wir quatschen\, bellen und spielen mit einander\, Hauptsache alle haben
  Spaß.\n\nPuppy Outfit ist keine Bedingung\, aber gern gesehen.
CATEGORIES:Socials
LOCATION:Braunschweig | Onkel Emma\, Echternstraße 9\, Braunschweig\, 3810
 0\, Deutschland
X-APPLE-STRUCTURED-LOCATION;VALUE=URI;X-ADDRESS=Echternstraße 9\, Braunsch
 weig\, 38100\, Deutschland;X-APPLE-RADIUS=100;X-TITLE=Braunschweig | Onkel
  Emma:geo:0,0
END:VEVENT
BEGIN:VTIMEZONE
TZID:Europe/Zurich
X-LIC-LOCATION:Europe/Zurich
BEGIN:DAYLIGHT
DTSTART:20260329T030000
TZOFFSETFROM:+0100
TZOFFSETTO:+0200
TZNAME:CEST
END:DAYLIGHT
END:VTIMEZONE
END:VCALENDAR