BEGIN:VCALENDAR
VERSION:2.0
PRODID:-//wp-events-plugin.com//7.2.3.1//EN
TZID:Europe/Zurich
X-WR-TIMEZONE:Europe/Zurich
BEGIN:VEVENT
UID:5511@in-gear.de
DTSTART;TZID=Europe/Berlin:20261107T170000
DTEND;TZID=Europe/Berlin:20261107T170000
DTSTAMP:20260223T090052Z
URL:https://in-gear.de/events/sneaky-sports-and-fun-unlocked-6/
SUMMARY:Sneaky: Sports and fun unlocked
DESCRIPTION:At SNEAKY it’s all about sportswear and fun. We emphasize pla
 ying with each other in any sportswear. So get your best sports outfit (se
 e dress code). Come and play with known- or meet new friends to have fun. 
 So are you up for fun? From trampling to bondage or from sniffing to wrest
 ling\, let your imagination run wild. And in between\, socialize at the ba
 r with other sportswear friends.\n\nAt Sneaky it’s all about sportswear 
 and fun\, so let’s do a clothing check. If your answer is ‘yes’ to b
 oth points\, then your clothing fits Sneaky and you are welcome. I would e
 xercise in public in my clothes My clothes would also look hot on someone 
 else
CATEGORIES:Parties
LOCATION:Amsterdam | Eagle\, Warmoesstraat 90\, Amsterdam\, Niederlande
X-APPLE-STRUCTURED-LOCATION;VALUE=URI;X-ADDRESS=Warmoesstraat 90\, Amsterda
 m\, Niederlande;X-APPLE-RADIUS=100;X-TITLE=Amsterdam | Eagle:geo:0,0
END:VEVENT
BEGIN:VTIMEZONE
TZID:Europe/Berlin
X-LIC-LOCATION:Europe/Berlin
BEGIN:STANDARD
DTSTART:20261025T020000
TZOFFSETFROM:+0200
TZOFFSETTO:+0100
TZNAME:CET
END:STANDARD
END:VTIMEZONE
END:VCALENDAR